BEGIN:VCALENDAR
PRODID:-//eluceo/ical//2.0/EN
VERSION:2.0
CALSCALE:GREGORIAN
BEGIN:VEVENT
UID:a56ee44121b775b28dba1f45daa28698
DTSTAMP:20260423T054016Z
SUMMARY:Benefiz Brunch "Ukraine" 10. April 2022
DESCRIPTION:Web stranica: http://www.trafobaden.ch\nGovornik(ci): https://e
 ventfrog.ch/brunchukraine
URL:https://rotary-baden.ch/bs/agenda/show/140686
DTSTART;TZID=Europe/Zurich:20220410T103000
DTEND;TZID=Europe/Zurich:20220410T160000
LOCATION:Trafo Baden
CATEGORIES:Rotary
END:VEVENT
BEGIN:VTIMEZONE
TZID:Europe/Zurich
BEGIN:DAYLIGHT
DTSTART:20220410T103000
TZNAME:CEST
TZOFFSETTO:+0200
TZOFFSETFROM:+0200
END:DAYLIGHT
END:VTIMEZONE
END:VCALENDAR
